BEGIN:VCALENDAR
VERSION:2.0
PRODID:SchoolNow
CALSCALE:GREGORIAN
BEGIN:VEVENT
UID:6dcdadaa-7faa-11f0-b798-0a58a9feac02
DTSTAMP:20251217T020519Z
SUMMARY:Stanislaus SELPA Meeting - Parent Guide to IEPs
LOCATION:1325 Celeste Dr\, Modesto\, CA 95355\, USA
URL;VALUE=URI:https://www.sylvan.k12.ca.us/departments/educational-services
 /special-education/calendar/8534447/stanislaus-selpa-meeting-parent-guide-
 to-ieps
DTSTART:20250923T010000Z
DTEND:20250923T030000Z
END:VEVENT
END:VCALENDAR
