BEGIN:VCALENDAR
VERSION:2.0
PRODID:SchoolNow
CALSCALE:GREGORIAN
BEGIN:VEVENT
UID:6dcdb1a6-7faa-11f0-82f2-0a58a9feac02
DTSTAMP:20251217T020519Z
SUMMARY:Stanislaus SELPA Meeting - Parent Rights
LOCATION:1325 Celeste Dr\, Modesto\, CA 95355\, USA
URL;VALUE=URI:https://www.sylvan.k12.ca.us/departments/educational-services
 /special-education/calendar/8534448/stanislaus-selpa-meeting-parent-rights
DTSTART:20251014T010000Z
DTEND:20251014T030000Z
END:VEVENT
END:VCALENDAR
