BEGIN:VCALENDAR
VERSION:2.0
PRODID:SchoolNow
CALSCALE:GREGORIAN
BEGIN:VEVENT
UID:6dcdb2fa-7faa-11f0-bbf0-0a58a9feac02
DTSTAMP:20251217T020519Z
SUMMARY:Stanislaus SELPA Meeting - Surrogate Presentation
LOCATION:1325 Celeste Dr\, Modesto\, CA 95355\, USA
URL;VALUE=URI:https://www.sylvan.k12.ca.us/departments/educational-services
 /special-education/calendar/8534449/stanislaus-selpa-meeting-surrogate-pre
 sentation
DTSTART:20251118T020000Z
DTEND:20251118T040000Z
END:VEVENT
END:VCALENDAR
