BEGIN:VCALENDAR
VERSION:2.0
PRODID:SchoolNow
CALSCALE:GREGORIAN
BEGIN:VEVENT
UID:6dcdb408-7faa-11f0-b0ec-0a58a9feac02
DTSTAMP:20251217T020519Z
SUMMARY:Stanislaus SELPA Meeting - Transition to Adult
LOCATION:1325 Celeste Dr\, Modesto\, CA 95355\, USA
URL;VALUE=URI:https://www.sylvan.k12.ca.us/departments/educational-services
 /special-education/calendar/8534450/stanislaus-selpa-meeting-transition-to
 -adult
DTSTART:20260127T020000Z
DTEND:20260127T040000Z
END:VEVENT
END:VCALENDAR
