BEGIN:VCALENDAR
VERSION:2.0
PRODID:SchoolNow
CALSCALE:GREGORIAN
BEGIN:VEVENT
UID:6dcdb50c-7faa-11f0-8d94-0a58a9feac02
DTSTAMP:20251217T020519Z
SUMMARY:Stanislaus SELPA Meeting - Collaborating with Schools & Districts
URL;VALUE=URI:https://www.sylvan.k12.ca.us/departments/educational-services
 /special-education/calendar/8534451/stanislaus-selpa-meeting-collaborating
 -with-schools-districts
DTSTART:20260224T020000Z
DTEND:20260224T040000Z
END:VEVENT
END:VCALENDAR
