BEGIN:VCALENDAR
VERSION:2.0
PRODID:SchoolNow
CALSCALE:GREGORIAN
BEGIN:VEVENT
UID:6dcdb746-7faa-11f0-bf56-0a58a9feac02
DTSTAMP:20251217T020519Z
SUMMARY:Stanislaus SELPA Meeting - Valley Mountain Regional Center
LOCATION:1325 Celeste Dr\, Modesto\, CA 95355\, USA
URL;VALUE=URI:https://www.sylvan.k12.ca.us/departments/educational-services
 /special-education/calendar/8534453/stanislaus-selpa-meeting-valley-mounta
 in-regional-center
DTSTART:20260421T010000Z
DTEND:20260421T030000Z
END:VEVENT
END:VCALENDAR
