BEGIN:VCALENDAR
VERSION:2.0
PRODID:SchoolNow
CALSCALE:GREGORIAN
BEGIN:VEVENT
UID:6dcdb840-7faa-11f0-8ebd-0a58a9feac02
DTSTAMP:20251217T020519Z
SUMMARY:Stanislaus SELPA Meeting - Center for Human Services
LOCATION:1325 Celeste Dr\, Modesto\, CA 95355\, USA
URL;VALUE=URI:https://www.sylvan.k12.ca.us/departments/educational-services
 /special-education/calendar/8534454/stanislaus-selpa-meeting-center-for-hu
 man-services
DTSTART:20260519T010000Z
DTEND:20260519T030000Z
END:VEVENT
END:VCALENDAR
