BEGIN:VCALENDAR
VERSION:2.0
PRODID:SchoolNow
CALSCALE:GREGORIAN
BEGIN:VEVENT
UID:6dcdb930-7faa-11f0-a615-0a58a9feac02
DTSTAMP:20251217T020519Z
SUMMARY:Stanislaus SELPA Meeting - Business Meeting
LOCATION:1325 Celeste Dr\, Modesto\, CA 95355\, USA
URL;VALUE=URI:https://www.sylvan.k12.ca.us/departments/educational-services
 /special-education/calendar/8534455/stanislaus-selpa-meeting-business-meet
 ing
DTSTART:20260609T010000Z
DTEND:20260609T030000Z
END:VEVENT
END:VCALENDAR
