BEGIN:VCALENDAR
VERSION:2.0
PRODID:SchoolNow
CALSCALE:GREGORIAN
BEGIN:VEVENT
UID:6dcdba20-7faa-11f0-9c39-0a58a9feac02
DTSTAMP:20251217T020519Z
SUMMARY:Sylvan Parent Workshop - Mental Health Clinicians
LOCATION:605 Sylvan Ave\, Modesto\, CA 95350\, USA
URL;VALUE=URI:https://www.sylvan.k12.ca.us/departments/educational-services
 /special-education/calendar/8534456/sylvan-parent-workshop-mental-health-c
 linicians
DTSTART:20250911T180000Z
DTEND:20250911T190000Z
END:VEVENT
END:VCALENDAR
