BEGIN:VCALENDAR
VERSION:2.0
PRODID:SchoolNow
CALSCALE:GREGORIAN
BEGIN:VEVENT
UID:6dcdbb06-7faa-11f0-bc34-0a58a9feac02
DTSTAMP:20251217T020519Z
SUMMARY:Sylvan Parent Information Meeting - Meet Your Special Education Adm
 ins and IEPs
LOCATION:605 Sylvan Ave\, Modesto\, CA 95350\, USA
URL;VALUE=URI:https://www.sylvan.k12.ca.us/departments/educational-services
 /special-education/calendar/8534457/sylvan-parent-information-meeting-meet
 -your-special-education-admins-and-ieps
DTSTART:20250918T003000Z
DTEND:20250918T013000Z
END:VEVENT
END:VCALENDAR
