BEGIN:VCALENDAR
VERSION:2.0
PRODID:SchoolNow
CALSCALE:GREGORIAN
BEGIN:VEVENT
UID:6dcdbbf6-7faa-11f0-b289-0a58a9feac02
DTSTAMP:20251217T020519Z
SUMMARY:Sylvan Parent Workshop - Behavior Strategies for Elementary School 
 Students
LOCATION:605 Sylvan Ave\, Modesto\, CA 95350\, USA
URL;VALUE=URI:https://www.sylvan.k12.ca.us/departments/educational-services
 /special-education/calendar/8534458/sylvan-parent-workshop-behavior-strate
 gies-for-elementary-school-students
DTSTART:20251009T180000Z
DTEND:20251009T190000Z
END:VEVENT
END:VCALENDAR
