BEGIN:VCALENDAR
VERSION:2.0
PRODID:SchoolNow
CALSCALE:GREGORIAN
BEGIN:VEVENT
UID:6dcdbcd2-7faa-11f0-a9ec-0a58a9feac02
DTSTAMP:20251217T020519Z
SUMMARY:Sylvan Parent Workshop -Behavior Strategies for Middle School Stude
 nts
LOCATION:605 Sylvan Ave\, Modesto\, CA 95350\, USA
URL;VALUE=URI:https://www.sylvan.k12.ca.us/departments/educational-services
 /special-education/calendar/8534459/sylvan-parent-workshop-behavior-strate
 gies-for-middle-school-students
DTSTART:20251106T190000Z
DTEND:20251106T200000Z
END:VEVENT
END:VCALENDAR
