BEGIN:VCALENDAR
VERSION:2.0
PRODID:SchoolNow
CALSCALE:GREGORIAN
BEGIN:VEVENT
UID:6dcdbdc2-7faa-11f0-82e9-0a58a9feac02
DTSTAMP:20251217T020519Z
SUMMARY:Sylvan Parent Workshop - Speech and Language
LOCATION:605 Sylvan Ave\, Modesto\, CA 95350\, USA
URL;VALUE=URI:https://www.sylvan.k12.ca.us/departments/educational-services
 /special-education/calendar/8534460/sylvan-parent-workshop-speech-and-lang
 uage
DTSTART:20260122T190000Z
DTEND:20260122T200000Z
END:VEVENT
END:VCALENDAR
