BEGIN:VCALENDAR
VERSION:2.0
PRODID:SchoolNow
CALSCALE:GREGORIAN
BEGIN:VEVENT
UID:6dcdbeb2-7faa-11f0-8c38-0a58a9feac02
DTSTAMP:20251217T020519Z
SUMMARY:Sylvan Parent Workshop - Occupational Therapy in Schools
LOCATION:605 Sylvan Ave\, Modesto\, CA 95350\, USA
URL;VALUE=URI:https://www.sylvan.k12.ca.us/departments/educational-services
 /special-education/calendar/8534461/sylvan-parent-workshop-occupational-th
 erapy-in-schools
DTSTART:20260219T190000Z
DTEND:20260219T200000Z
END:VEVENT
END:VCALENDAR
