BEGIN:VCALENDAR
VERSION:2.0
PRODID:SchoolNow
CALSCALE:GREGORIAN
BEGIN:VEVENT
UID:6dcdbf98-7faa-11f0-966b-0a58a9feac02
DTSTAMP:20251217T020519Z
SUMMARY:Sylvan Parent Workshop - Inclusion Specialists
URL;VALUE=URI:https://www.sylvan.k12.ca.us/departments/educational-services
 /special-education/calendar/8534462/sylvan-parent-workshop-inclusion-speci
 alists
DTSTART:20260312T190000Z
DTEND:20260312T200000Z
END:VEVENT
END:VCALENDAR
