BEGIN:VCALENDAR
VERSION:2.0
PRODID:SchoolNow
CALSCALE:GREGORIAN
BEGIN:VEVENT
UID:6dcdc07e-7faa-11f0-bb7a-0a58a9feac02
DTSTAMP:20251217T020519Z
SUMMARY:Sylvan Parent Workshop - Adapted Physical Education
LOCATION:605 Sylvan Ave\, Modesto\, CA 95350\, USA
URL;VALUE=URI:https://www.sylvan.k12.ca.us/departments/educational-services
 /special-education/calendar/8534463/sylvan-parent-workshop-adapted-physica
 l-education
DTSTART:20260416T180000Z
DTEND:20260416T190000Z
END:VEVENT
END:VCALENDAR
