BEGIN:VCALENDAR
VERSION:2.0
PRODID:SchoolNow
CALSCALE:GREGORIAN
BEGIN:VEVENT
UID:6dcdc164-7faa-11f0-872a-0a58a9feac02
DTSTAMP:20251217T020519Z
SUMMARY:Sylvan Parent Information Meeting - Meet Your Community Connections
LOCATION:605 Sylvan Ave\, Modesto\, CA 95350\, USA
URL;VALUE=URI:https://www.sylvan.k12.ca.us/departments/educational-services
 /special-education/calendar/8534464/sylvan-parent-information-meeting-meet
 -your-community-connections
DTSTART:20260416T003000Z
DTEND:20260416T013000Z
END:VEVENT
END:VCALENDAR
