BEGIN:VCALENDAR
VERSION:2.0
PRODID:SchoolNow
CALSCALE:GREGORIAN
BEGIN:VEVENT
UID:58aafbe8-6a17-11ef-af31-0affd6ab9cd7
DTSTAMP:20240903T171440Z
SUMMARY:August 21\, 2024 - Early Dismissal @ 1:25 PM
URL;VALUE=URI:https://www.sylvan.k12.ca.us/schools/cf-brown/calendar/651543
 9/august-21-2024-early-dismissal-1-25-pm
DTSTART:20240821T202500Z
DTEND:20240821T212500Z
END:VEVENT
END:VCALENDAR
