BEGIN:VCALENDAR
VERSION:2.0
PRODID:SchoolNow
CALSCALE:GREGORIAN
BEGIN:VEVENT
UID:fb552468-6a17-11ef-87d3-0a58a9feac02
DTSTAMP:20240903T171430Z
SUMMARY:August 28\, 2024 - Early Dismissal @ 1:25 PM
URL;VALUE=URI:https://www.sylvan.k12.ca.us/schools/cf-brown/calendar/651544
 0/august-28-2024-early-dismissal-1-25-pm
DTSTART:20240828T202500Z
DTEND:20240828T212500Z
END:VEVENT
END:VCALENDAR
