BEGIN:VCALENDAR
VERSION:2.0
PRODID:SchoolNow
CALSCALE:GREGORIAN
BEGIN:VEVENT
UID:68d34f24-6a18-11ef-b526-0a58a9feac02
DTSTAMP:20240903T171734Z
SUMMARY:September 4\, 2024 - Early Dismissal @ 1:25 PM
URL;VALUE=URI:https://www.sylvan.k12.ca.us/schools/cf-brown/calendar/651544
 1/september-4-2024-early-dismissal-1-25-pm
DTSTART:20240904T202500Z
DTEND:20240904T212500Z
END:VEVENT
END:VCALENDAR
