BEGIN:VCALENDAR
VERSION:2.0
PRODID:SchoolNow
CALSCALE:GREGORIAN
BEGIN:VEVENT
UID:855ef602-6a18-11ef-ba1c-02dea9ddefb1
DTSTAMP:20240903T171822Z
SUMMARY:September 11\, 2024 - Early Dismissal @ 1:25 PM
URL;VALUE=URI:https://www.sylvan.k12.ca.us/schools/cf-brown/calendar/651544
 2/september-11-2024-early-dismissal-1-25-pm
DTSTART:20240911T202500Z
DTEND:20240911T212500Z
END:VEVENT
END:VCALENDAR
