BEGIN:VCALENDAR
VERSION:2.0
PRODID:SchoolNow
CALSCALE:GREGORIAN
BEGIN:VEVENT
UID:98346398-6a18-11ef-9cff-0a58a9feac02
DTSTAMP:20240903T171853Z
SUMMARY:September 18\, 2024 - Early Dismissal @ 1:25 PM
URL;VALUE=URI:https://www.sylvan.k12.ca.us/schools/cf-brown/calendar/651544
 3/september-18-2024-early-dismissal-1-25-pm
DTSTART:20240918T202500Z
DTEND:20240918T212500Z
END:VEVENT
END:VCALENDAR
