BEGIN:VCALENDAR
VERSION:2.0
PRODID:SchoolNow
CALSCALE:GREGORIAN
BEGIN:VEVENT
UID:a0f1ce26-6a18-11ef-948d-0a58a9feac02
DTSTAMP:20240903T171908Z
SUMMARY:September 25\, 2024 - Early Dismissal @ 1:25 PM
URL;VALUE=URI:https://www.sylvan.k12.ca.us/schools/cf-brown/calendar/651544
 4/september-25-2024-early-dismissal-1-25-pm
DTSTART:20240925T202500Z
DTEND:20240925T212500Z
END:VEVENT
END:VCALENDAR
