BEGIN:VCALENDAR
VERSION:2.0
PRODID:SchoolNow
CALSCALE:GREGORIAN
BEGIN:VEVENT
UID:a9f3e8d8-6a18-11ef-967d-02dea9ddefb1
DTSTAMP:20240903T171923Z
SUMMARY:October 2\, 2024 - Early Dismissal @ 1:25 PM
URL;VALUE=URI:https://www.sylvan.k12.ca.us/schools/cf-brown/calendar/651544
 5/october-2-2024-early-dismissal-1-25-pm
DTSTART:20241002T202500Z
DTEND:20241002T212500Z
END:VEVENT
END:VCALENDAR
