BEGIN:VCALENDAR
VERSION:2.0
PRODID:SchoolNow
CALSCALE:GREGORIAN
BEGIN:VEVENT
UID:b3086c5a-6a18-11ef-886c-0a58a9feac02
DTSTAMP:20240903T171938Z
SUMMARY:October 9\, 2024 - Early Dismissal @ 1:25 PM
URL;VALUE=URI:https://www.sylvan.k12.ca.us/schools/cf-brown/calendar/651544
 6/october-9-2024-early-dismissal-1-25-pm
DTSTART:20241009T202500Z
DTEND:20241009T212500Z
END:VEVENT
END:VCALENDAR
