BEGIN:VCALENDAR
VERSION:2.0
PRODID:SchoolNow
CALSCALE:GREGORIAN
BEGIN:VEVENT
UID:bb498c5a-6a18-11ef-af4b-0a58a9feac02
DTSTAMP:20240903T171952Z
SUMMARY:October 16\, 2024 - Early Dismissal @ 1:25 PM
URL;VALUE=URI:https://www.sylvan.k12.ca.us/schools/cf-brown/calendar/651544
 7/october-16-2024-early-dismissal-1-25-pm
DTSTART:20241016T202500Z
DTEND:20241016T212500Z
END:VEVENT
END:VCALENDAR
