BEGIN:VCALENDAR
VERSION:2.0
PRODID:SchoolNow
CALSCALE:GREGORIAN
BEGIN:VEVENT
UID:c44f0f1e-6a18-11ef-8a30-0a58a9feac02
DTSTAMP:20240903T172007Z
SUMMARY:October 23\, 2024 - Early Dismissal @ 1:25 PM
URL;VALUE=URI:https://www.sylvan.k12.ca.us/schools/cf-brown/calendar/651544
 8/october-23-2024-early-dismissal-1-25-pm
DTSTART:20241023T202500Z
DTEND:20241023T212500Z
END:VEVENT
END:VCALENDAR
