BEGIN:VCALENDAR
VERSION:2.0
PRODID:SchoolNow
CALSCALE:GREGORIAN
BEGIN:VEVENT
UID:0fe98e5e-6a19-11ef-8092-0a58a9feac02
DTSTAMP:20240903T172214Z
SUMMARY:October 30\, 2024 - Early Dismissal @ 1:25 PM
URL;VALUE=URI:https://www.sylvan.k12.ca.us/schools/cf-brown/calendar/651544
 9/october-30-2024-early-dismissal-1-25-pm
DTSTART:20241030T202500Z
DTEND:20241030T212500Z
END:VEVENT
END:VCALENDAR
