BEGIN:VCALENDAR
VERSION:2.0
PRODID:SchoolNow
CALSCALE:GREGORIAN
BEGIN:VEVENT
UID:1b5a6268-6a19-11ef-a0fd-0a58a9feac02
DTSTAMP:20240903T200433Z
SUMMARY:November 4-8\, 2024 - Early Dismissal @ 1:25 PM
URL;VALUE=URI:https://www.sylvan.k12.ca.us/schools/cf-brown/calendar/651545
 0/november-4-8-2024-early-dismissal-1-25-pm
DTSTART:20241104T212500Z
DTEND:20241108T222500Z
END:VEVENT
END:VCALENDAR
