BEGIN:VCALENDAR
VERSION:2.0
PRODID:SchoolNow
CALSCALE:GREGORIAN
BEGIN:VEVENT
UID:25292e28-6a19-11ef-8d5e-0290f6182f23
DTSTAMP:20240903T172250Z
SUMMARY:November 13\, 2024 - Early Dismissal @ 1:25 PM
URL;VALUE=URI:https://www.sylvan.k12.ca.us/schools/cf-brown/calendar/651545
 1/november-13-2024-early-dismissal-1-25-pm
DTSTART:20241113T212500Z
DTEND:20241113T222500Z
END:VEVENT
END:VCALENDAR
