BEGIN:VCALENDAR
VERSION:2.0
PRODID:SchoolNow
CALSCALE:GREGORIAN
BEGIN:VEVENT
UID:3809656c-6a19-11ef-83be-02dea9ddefb1
DTSTAMP:20240903T172321Z
SUMMARY:November 20\, 2024 - Early Dismissal @ 1:25 PM
URL;VALUE=URI:https://www.sylvan.k12.ca.us/schools/cf-brown/calendar/651545
 2/november-20-2024-early-dismissal-1-25-pm
DTSTART:20241120T212500Z
DTEND:20241120T222500Z
END:VEVENT
END:VCALENDAR
