BEGIN:VCALENDAR
VERSION:2.0
PRODID:SchoolNow
CALSCALE:GREGORIAN
BEGIN:VEVENT
UID:496d728a-6a19-11ef-acaf-0a58a9feac02
DTSTAMP:20240903T172351Z
SUMMARY:November 26\, 2024 - Early Dismissal @ 1:25 PM
URL;VALUE=URI:https://www.sylvan.k12.ca.us/schools/cf-brown/calendar/651545
 3/november-26-2024-early-dismissal-1-25-pm
DTSTART:20241126T212500Z
DTEND:20241126T222500Z
END:VEVENT
END:VCALENDAR
