BEGIN:VCALENDAR
VERSION:2.0
PRODID:SchoolNow
CALSCALE:GREGORIAN
BEGIN:VEVENT
UID:555bfd5a-6a19-11ef-aba4-0a58a9feac02
DTSTAMP:20240903T172411Z
SUMMARY:December 4\, 2024 - Early Dismissal @ 1:25 PM
URL;VALUE=URI:https://www.sylvan.k12.ca.us/schools/cf-brown/calendar/651545
 4/december-4-2024-early-dismissal-1-25-pm
DTSTART:20241204T212500Z
DTEND:20241204T222500Z
END:VEVENT
END:VCALENDAR
