BEGIN:VCALENDAR
VERSION:2.0
PRODID:SchoolNow
CALSCALE:GREGORIAN
BEGIN:VEVENT
UID:608923b0-6a19-11ef-9ae5-02dea9ddefb1
DTSTAMP:20240903T172429Z
SUMMARY:December 11\, 2024 - Early Dismissal @ 1:25 PM
URL;VALUE=URI:https://www.sylvan.k12.ca.us/schools/cf-brown/calendar/651545
 5/december-11-2024-early-dismissal-1-25-pm
DTSTART:20241211T212500Z
DTEND:20241211T222500Z
END:VEVENT
END:VCALENDAR
