BEGIN:VCALENDAR
VERSION:2.0
PRODID:SchoolNow
CALSCALE:GREGORIAN
BEGIN:VEVENT
UID:70b1251c-6a19-11ef-81d7-0affc6b4c37b
DTSTAMP:20240903T172456Z
SUMMARY:December 18\, 2024 - Early Dismissal @ 1:25 PM
URL;VALUE=URI:https://www.sylvan.k12.ca.us/schools/cf-brown/calendar/651545
 6/december-18-2024-early-dismissal-1-25-pm
DTSTART:20241218T212500Z
DTEND:20241218T222500Z
END:VEVENT
END:VCALENDAR
