BEGIN:VCALENDAR
VERSION:2.0
PRODID:SchoolNow
CALSCALE:GREGORIAN
BEGIN:VEVENT
UID:7a59cae2-6a19-11ef-9aba-0a58a9feac02
DTSTAMP:20240903T172513Z
SUMMARY:December 20\, 2024 - Early Dismissal @ 1:25 PM
URL;VALUE=URI:https://www.sylvan.k12.ca.us/schools/cf-brown/calendar/651545
 7/december-20-2024-early-dismissal-1-25-pm
DTSTART:20241220T212500Z
DTEND:20241220T222500Z
END:VEVENT
END:VCALENDAR
