BEGIN:VCALENDAR
VERSION:2.0
PRODID:SchoolNow
CALSCALE:GREGORIAN
BEGIN:VEVENT
UID:9a633882-6a19-11ef-87f3-0a58a9feac02
DTSTAMP:20240903T172606Z
SUMMARY:January 15\, 2025 - Early Dismissal @ 1:25 PM
URL;VALUE=URI:https://www.sylvan.k12.ca.us/schools/cf-brown/calendar/651545
 8/january-15-2025-early-dismissal-1-25-pm
DTSTART:20250115T212500Z
DTEND:20250115T222500Z
END:VEVENT
END:VCALENDAR
