BEGIN:VCALENDAR
VERSION:2.0
PRODID:SchoolNow
CALSCALE:GREGORIAN
BEGIN:VEVENT
UID:a7c48f12-6a19-11ef-b3d8-0a58a9feac02
DTSTAMP:20240903T172629Z
SUMMARY:January 22\, 2025 - Early Dismissal @ 1:25 PM
URL;VALUE=URI:https://www.sylvan.k12.ca.us/schools/cf-brown/calendar/651545
 9/january-22-2025-early-dismissal-1-25-pm
DTSTART:20250122T212500Z
DTEND:20250122T222500Z
END:VEVENT
END:VCALENDAR
