BEGIN:VCALENDAR
VERSION:2.0
PRODID:SchoolNow
CALSCALE:GREGORIAN
BEGIN:VEVENT
UID:b59c8f86-6a19-11ef-a40c-0a58a9feac02
DTSTAMP:20240903T172652Z
SUMMARY:January 29\, 2025 - Early Dismissal @ 1:25 PM
URL;VALUE=URI:https://www.sylvan.k12.ca.us/schools/cf-brown/calendar/651546
 0/january-29-2025-early-dismissal-1-25-pm
DTSTART:20250129T212500Z
DTEND:20250129T222500Z
END:VEVENT
END:VCALENDAR
