BEGIN:VCALENDAR
VERSION:2.0
PRODID:SchoolNow
CALSCALE:GREGORIAN
BEGIN:VEVENT
UID:7df5d352-6a24-11ef-9dcb-0a58a9feac02
DTSTAMP:20240903T184403Z
SUMMARY:February 5\, 2025 - Early Dismissal @ 1:25 PM
URL;VALUE=URI:https://www.sylvan.k12.ca.us/schools/cf-brown/calendar/651547
 7/february-5-2025-early-dismissal-1-25-pm
DTSTART:20250205T212500Z
DTEND:20250205T222500Z
END:VEVENT
END:VCALENDAR
