BEGIN:VCALENDAR
VERSION:2.0
PRODID:SchoolNow
CALSCALE:GREGORIAN
BEGIN:VEVENT
UID:2ed79f3e-6a25-11ef-91d2-0a58a9feac02
DTSTAMP:20240903T184922Z
SUMMARY:February 12\, 2025 - Early Dismissal @ 1:25 PM
URL;VALUE=URI:https://www.sylvan.k12.ca.us/schools/cf-brown/calendar/651547
 8/february-12-2025-early-dismissal-1-25-pm
DTSTART:20250212T212500Z
DTEND:20250212T222500Z
END:VEVENT
END:VCALENDAR
