BEGIN:VCALENDAR
VERSION:2.0
PRODID:SchoolNow
CALSCALE:GREGORIAN
BEGIN:VEVENT
UID:4faa20d8-6a25-11ef-a9b8-0a58a9feac02
DTSTAMP:20240903T184955Z
SUMMARY:February 19\, 2025 - Early Dismissal @ 1:25 PM
URL;VALUE=URI:https://www.sylvan.k12.ca.us/schools/cf-brown/calendar/651547
 9/february-19-2025-early-dismissal-1-25-pm
DTSTART:20250219T212500Z
DTEND:20250219T222500Z
END:VEVENT
END:VCALENDAR
