BEGIN:VCALENDAR
VERSION:2.0
PRODID:SchoolNow
CALSCALE:GREGORIAN
BEGIN:VEVENT
UID:b72d3e2e-6a26-11ef-8eaf-0a58a9feac02
DTSTAMP:20240903T185958Z
SUMMARY:February 26\, 2025 - Early Dismissal @ 1:25 PM
URL;VALUE=URI:https://www.sylvan.k12.ca.us/schools/cf-brown/calendar/651548
 1/february-26-2025-early-dismissal-1-25-pm
DTSTART:20250226T212500Z
DTEND:20250226T222500Z
END:VEVENT
END:VCALENDAR
