BEGIN:VCALENDAR
VERSION:2.0
PRODID:SchoolNow
CALSCALE:GREGORIAN
BEGIN:VEVENT
UID:c92940fa-6a26-11ef-ade0-0a58a9feac02
DTSTAMP:20240903T201959Z
SUMMARY:March 4-6\, 2025 - Early Dismissal @ 1:25 PM
URL;VALUE=URI:https://www.sylvan.k12.ca.us/schools/cf-brown/calendar/651548
 2/march-4-6-2025-early-dismissal-1-25-pm
DTSTART:20250304T212500Z
DTEND:20250306T222500Z
END:VEVENT
END:VCALENDAR
