BEGIN:VCALENDAR
VERSION:2.0
PRODID:SchoolNow
CALSCALE:GREGORIAN
BEGIN:VEVENT
UID:266dd8ac-6a27-11ef-b252-02dea9ddefb1
DTSTAMP:20240903T190305Z
SUMMARY:March 12\, 2025 - Early Dismissal @ 1:25 PM
URL;VALUE=URI:https://www.sylvan.k12.ca.us/schools/cf-brown/calendar/651548
 3/march-12-2025-early-dismissal-1-25-pm
DTSTART:20250312T202500Z
DTEND:20250312T212500Z
END:VEVENT
END:VCALENDAR
