BEGIN:VCALENDAR
VERSION:2.0
PRODID:SchoolNow
CALSCALE:GREGORIAN
BEGIN:VEVENT
UID:35e1b07e-6a27-11ef-b89b-0a58a9feac02
DTSTAMP:20240903T190331Z
SUMMARY:March 19\, 2025 - Early Dismissal @ 1:25 PM
URL;VALUE=URI:https://www.sylvan.k12.ca.us/schools/cf-brown/calendar/651548
 4/march-19-2025-early-dismissal-1-25-pm
DTSTART:20250319T202500Z
DTEND:20250319T212500Z
END:VEVENT
END:VCALENDAR
