BEGIN:VCALENDAR
VERSION:2.0
PRODID:SchoolNow
CALSCALE:GREGORIAN
BEGIN:VEVENT
UID:49adead2-6a27-11ef-9777-0a58a9feac02
DTSTAMP:20240903T190404Z
SUMMARY:April 2\, 2025 - Early Dismissal @ 1:25 PM
URL;VALUE=URI:https://www.sylvan.k12.ca.us/schools/cf-brown/calendar/651548
 5/april-2-2025-early-dismissal-1-25-pm
DTSTART:20250402T202500Z
DTEND:20250402T212500Z
END:VEVENT
END:VCALENDAR
