BEGIN:VCALENDAR
VERSION:2.0
PRODID:SchoolNow
CALSCALE:GREGORIAN
BEGIN:VEVENT
UID:56263486-6a27-11ef-b2ce-0290f6182f23
DTSTAMP:20240903T190425Z
SUMMARY:April 9\, 2025 - Early Dismissal @ 1:25 PM
URL;VALUE=URI:https://www.sylvan.k12.ca.us/schools/cf-brown/calendar/651548
 6/april-9-2025-early-dismissal-1-25-pm
DTSTART:20250409T202500Z
DTEND:20250409T212500Z
END:VEVENT
END:VCALENDAR
