BEGIN:VCALENDAR
VERSION:2.0
PRODID:SchoolNow
CALSCALE:GREGORIAN
BEGIN:VEVENT
UID:6657da76-6a27-11ef-be52-0e2e5f6d3f31
DTSTAMP:20240903T190452Z
SUMMARY:April 16\, 2025 - Early Dismissal @ 1:25 PM
URL;VALUE=URI:https://www.sylvan.k12.ca.us/schools/cf-brown/calendar/651548
 7/april-16-2025-early-dismissal-1-25-pm
DTSTART:20250416T202500Z
DTEND:20250416T212500Z
END:VEVENT
END:VCALENDAR
