BEGIN:VCALENDAR
VERSION:2.0
PRODID:SchoolNow
CALSCALE:GREGORIAN
BEGIN:VEVENT
UID:73923cb8-6a27-11ef-8f61-02dea9ddefb1
DTSTAMP:20240903T190514Z
SUMMARY:April 18\, 2025 - Early Dismissal @ 1:25 PM
URL;VALUE=URI:https://www.sylvan.k12.ca.us/schools/cf-brown/calendar/651549
 1/april-18-2025-early-dismissal-1-25-pm
DTSTART:20250418T202500Z
DTEND:20250418T212500Z
END:VEVENT
END:VCALENDAR
